BEGIN:VCALENDAR
VERSION:2.0
PRODID:-//pretix//CCCV_Presale//
BEGIN:VEVENT
UID:pretix-cccv-34c3-0@tickets.events.ccc.de
DTSTART;VALUE=DATE:20171227
DTEND;VALUE=DATE:20171231
DESCRIPTION:Tickets: https://tickets.events.ccc.de/34c3/\nVeranstalter: CCC
 V
DTSTAMP:20260423T143546Z
LOCATION:Congress Center Leipzig
SUMMARY:34. Chaos Communication Congress
END:VEVENT
END:VCALENDAR
