BEGIN:VCALENDAR
VERSION:2.0
PRODID:-//pretix//CCCV_Presale//
BEGIN:VEVENT
UID:pretix-cccv-RC3-21-0@tickets.events.ccc.de
DTSTART;VALUE=DATE:20211227
DTEND;VALUE=DATE:20211231
DESCRIPTION:Tickets: https://tickets.events.ccc.de/RC3-21/\nOrganizer: CCCV
DTSTAMP:20260423T191126Z
LOCATION:Online
SUMMARY:Remote Chaos Experience
END:VEVENT
END:VCALENDAR
