BEGIN:VCALENDAR
VERSION:2.0
PRODID:-//pretix//CCCV_Presale//
BEGIN:VEVENT
UID:pretix-cccv-RC3-0@tickets.events.ccc.de
DTSTART;VALUE=DATE:20201227
DTEND;VALUE=DATE:20201231
DESCRIPTION:Tickets: https://tickets.events.ccc.de/RC3/\nOrganizer: CCCV
DTSTAMP:20260421T161331Z
SUMMARY:Remote Chaos Experience
END:VEVENT
END:VCALENDAR
