BEGIN:VCALENDAR
VERSION:2.0
PRODID:-//pretix//CCCV_Presale//
BEGIN:VTIMEZONE
TZID:Europe/Berlin
BEGIN:STANDARD
DTSTART:20001029T040000
RRULE:FREQ=YEARLY;BYDAY=-1SU;BYMONTH=10
TZNAME:CET
TZOFFSETFROM:+0200
TZOFFSETTO:+0100
END:STANDARD
BEGIN:DAYLIGHT
DTSTART:20000326T030000
RRULE:FREQ=YEARLY;BYDAY=-1SU;BYMONTH=3
TZNAME:CEST
TZOFFSETFROM:+0100
TZOFFSETTO:+0200
END:DAYLIGHT
END:VTIMEZONE
BEGIN:VEVENT
UID:pretix-cccv-camp2019-0@tickets.events.ccc.de
DTSTART;TZID=Europe/Berlin:20190821T080000
DTEND;TZID=Europe/Berlin:20190825T180000
DESCRIPTION:Tickets: https://tickets.events.ccc.de/camp2019/\nOrganizer: CC
 CV
DTSTAMP:20260425T194656Z
LOCATION:Ziegeleipark\, Mildenberg
SUMMARY:Chaos Communication Camp 2019
END:VEVENT
END:VCALENDAR
